BEGIN:VCALENDAR
VERSION:2.0
PRODID:-//MG Reinach - ECPv6.15.20//NONSGML v1.0//EN
CALSCALE:GREGORIAN
METHOD:PUBLISH
X-WR-CALNAME:MG Reinach
X-ORIGINAL-URL:https://mgreinach.ch
X-WR-CALDESC:Veranstaltungen für MG Reinach
REFRESH-INTERVAL;VALUE=DURATION:PT1H
X-Robots-Tag:noindex
X-PUBLISHED-TTL:PT1H
BEGIN:VTIMEZONE
TZID:Europe/Berlin
BEGIN:DAYLIGHT
TZOFFSETFROM:+0100
TZOFFSETTO:+0200
TZNAME:CEST
DTSTART:20240331T010000
END:DAYLIGHT
BEGIN:STANDARD
TZOFFSETFROM:+0200
TZOFFSETTO:+0100
TZNAME:CET
DTSTART:20241027T010000
END:STANDARD
BEGIN:DAYLIGHT
TZOFFSETFROM:+0100
TZOFFSETTO:+0200
TZNAME:CEST
DTSTART:20250330T010000
END:DAYLIGHT
BEGIN:STANDARD
TZOFFSETFROM:+0200
TZOFFSETTO:+0100
TZNAME:CET
DTSTART:20251026T010000
END:STANDARD
BEGIN:DAYLIGHT
TZOFFSETFROM:+0100
TZOFFSETTO:+0200
TZNAME:CEST
DTSTART:20260329T010000
END:DAYLIGHT
BEGIN:STANDARD
TZOFFSETFROM:+0200
TZOFFSETTO:+0100
TZNAME:CET
DTSTART:20261025T010000
END:STANDARD
BEGIN:DAYLIGHT
TZOFFSETFROM:+0100
TZOFFSETTO:+0200
TZNAME:CEST
DTSTART:20270328T010000
END:DAYLIGHT
BEGIN:STANDARD
TZOFFSETFROM:+0200
TZOFFSETTO:+0100
TZNAME:CET
DTSTART:20271031T010000
END:STANDARD
END:VTIMEZONE
BEGIN:VEVENT
DTSTART;TZID=Europe/Berlin:20260418T100000
DTEND;TZID=Europe/Berlin:20260418T150000
DTSTAMP:20260422T151305
CREATED:20260331T202714Z
LAST-MODIFIED:20260331T202714Z
UID:7620-1776506400-1776524400@mgreinach.ch
SUMMARY:Platzputzete
DESCRIPTION:
URL:https://mgreinach.ch/event/platzputzete-17/
LOCATION:Flugplatz MG Reinach
END:VEVENT
BEGIN:VEVENT
DTSTART;TZID=Europe/Berlin:20260415T190000
DTEND;TZID=Europe/Berlin:20260415T190000
DTSTAMP:20260422T151305
CREATED:20241103T085418Z
LAST-MODIFIED:20241103T085418Z
UID:7392-1776279600-1776279600@mgreinach.ch
SUMMARY:MGR Hock
DESCRIPTION:
URL:https://mgreinach.ch/event/mgr-hock-224/
LOCATION:Restaurant „Zum Brunne“\, Biel-Benken\, Hauptstrasse 56\, Biel-Benken\, 4105\, Schweiz
END:VEVENT
BEGIN:VEVENT
DTSTART;VALUE=DATE:20260411
DTEND;VALUE=DATE:20260412
DTSTAMP:20260422T151305
CREATED:20260331T202820Z
LAST-MODIFIED:20260331T202820Z
UID:7624-1775865600-1775951999@mgreinach.ch
SUMMARY:Börse Brislach
DESCRIPTION:
URL:https://mgreinach.ch/event/boerse-brislach-3/
LOCATION:Schulhaus in Brislach\, Hinter den Gärten 14\, Brislach\, 4225\, Schweiz
END:VEVENT
BEGIN:VEVENT
DTSTART;TZID=Europe/Berlin:20260407T190000
DTEND;TZID=Europe/Berlin:20260407T190000
DTSTAMP:20260422T151305
CREATED:20241103T085549Z
LAST-MODIFIED:20241103T085549Z
UID:7416-1775588400-1775588400@mgreinach.ch
SUMMARY:MGR Hock
DESCRIPTION:
URL:https://mgreinach.ch/event/mgr-hock-248/
LOCATION:Restaurant „Zum Brunne“\, Biel-Benken\, Hauptstrasse 56\, Biel-Benken\, 4105\, Schweiz
END:VEVENT
BEGIN:VEVENT
DTSTART;TZID=Europe/Berlin:20260320T190000
DTEND;TZID=Europe/Berlin:20260320T220000
DTSTAMP:20260422T151305
CREATED:20251108T155408Z
LAST-MODIFIED:20251108T155408Z
UID:7603-1774033200-1774044000@mgreinach.ch
SUMMARY:GV MG Reinach
DESCRIPTION:
URL:https://mgreinach.ch/event/gv-mg-reinach-3/
END:VEVENT
BEGIN:VEVENT
DTSTART;TZID=Europe/Berlin:20260318T190000
DTEND;TZID=Europe/Berlin:20260318T190000
DTSTAMP:20260422T151305
CREATED:20241103T085404Z
LAST-MODIFIED:20241103T085404Z
UID:7391-1773860400-1773860400@mgreinach.ch
SUMMARY:MGR Hock
DESCRIPTION:
URL:https://mgreinach.ch/event/mgr-hock-223/
LOCATION:Restaurant „Zum Brunne“\, Biel-Benken\, Hauptstrasse 56\, Biel-Benken\, 4105\, Schweiz
END:VEVENT
BEGIN:VEVENT
DTSTART;TZID=Europe/Berlin:20260303T190000
DTEND;TZID=Europe/Berlin:20260303T190000
DTSTAMP:20260422T151305
CREATED:20241103T085548Z
LAST-MODIFIED:20241103T085548Z
UID:7415-1772564400-1772564400@mgreinach.ch
SUMMARY:MGR Hock
DESCRIPTION:
URL:https://mgreinach.ch/event/mgr-hock-247/
LOCATION:Restaurant „Zum Brunne“\, Biel-Benken\, Hauptstrasse 56\, Biel-Benken\, 4105\, Schweiz
END:VEVENT
BEGIN:VEVENT
DTSTART;TZID=Europe/Berlin:20260218T190000
DTEND;TZID=Europe/Berlin:20260218T190000
DTSTAMP:20260422T151305
CREATED:20241103T085404Z
LAST-MODIFIED:20241103T085404Z
UID:7390-1771441200-1771441200@mgreinach.ch
SUMMARY:MGR Hock
DESCRIPTION:
URL:https://mgreinach.ch/event/mgr-hock-222/
LOCATION:Restaurant „Zum Brunne“\, Biel-Benken\, Hauptstrasse 56\, Biel-Benken\, 4105\, Schweiz
END:VEVENT
BEGIN:VEVENT
DTSTART;TZID=Europe/Berlin:20260203T190000
DTEND;TZID=Europe/Berlin:20260203T190000
DTSTAMP:20260422T151305
CREATED:20241103T085548Z
LAST-MODIFIED:20241103T085548Z
UID:7414-1770145200-1770145200@mgreinach.ch
SUMMARY:MGR Hock
DESCRIPTION:
URL:https://mgreinach.ch/event/mgr-hock-246/
LOCATION:Restaurant „Zum Brunne“\, Biel-Benken\, Hauptstrasse 56\, Biel-Benken\, 4105\, Schweiz
END:VEVENT
BEGIN:VEVENT
DTSTART;TZID=Europe/Berlin:20260121T190000
DTEND;TZID=Europe/Berlin:20260121T190000
DTSTAMP:20260422T151305
CREATED:20241103T085404Z
LAST-MODIFIED:20241103T085404Z
UID:7389-1769022000-1769022000@mgreinach.ch
SUMMARY:MGR Hock
DESCRIPTION:
URL:https://mgreinach.ch/event/mgr-hock-221/
LOCATION:Restaurant „Zum Brunne“\, Biel-Benken\, Hauptstrasse 56\, Biel-Benken\, 4105\, Schweiz
END:VEVENT
BEGIN:VEVENT
DTSTART;TZID=Europe/Berlin:20260106T190000
DTEND;TZID=Europe/Berlin:20260106T190000
DTSTAMP:20260422T151305
CREATED:20241103T085548Z
LAST-MODIFIED:20241103T085548Z
UID:7413-1767726000-1767726000@mgreinach.ch
SUMMARY:MGR Hock
DESCRIPTION:
URL:https://mgreinach.ch/event/mgr-hock-245/
LOCATION:Restaurant „Zum Brunne“\, Biel-Benken\, Hauptstrasse 56\, Biel-Benken\, 4105\, Schweiz
END:VEVENT
BEGIN:VEVENT
DTSTART;TZID=Europe/Berlin:20251217T190000
DTEND;TZID=Europe/Berlin:20251217T190000
DTSTAMP:20260422T151305
CREATED:20241103T085403Z
LAST-MODIFIED:20241103T085403Z
UID:7388-1765998000-1765998000@mgreinach.ch
SUMMARY:MGR Hock
DESCRIPTION:
URL:https://mgreinach.ch/event/mgr-hock-220/
LOCATION:Restaurant „Zum Brunne“\, Biel-Benken\, Hauptstrasse 56\, Biel-Benken\, 4105\, Schweiz
END:VEVENT
BEGIN:VEVENT
DTSTART;TZID=Europe/Berlin:20251202T190000
DTEND;TZID=Europe/Berlin:20251202T190000
DTSTAMP:20260422T151305
CREATED:20241103T085548Z
LAST-MODIFIED:20241103T085548Z
UID:7412-1764702000-1764702000@mgreinach.ch
SUMMARY:MGR Hock
DESCRIPTION:
URL:https://mgreinach.ch/event/mgr-hock-244/
LOCATION:Restaurant „Zum Brunne“\, Biel-Benken\, Hauptstrasse 56\, Biel-Benken\, 4105\, Schweiz
END:VEVENT
BEGIN:VEVENT
DTSTART;TZID=Europe/Berlin:20251119T190000
DTEND;TZID=Europe/Berlin:20251119T190000
DTSTAMP:20260422T151305
CREATED:20241103T085403Z
LAST-MODIFIED:20241103T085403Z
UID:7387-1763578800-1763578800@mgreinach.ch
SUMMARY:MGR Hock
DESCRIPTION:
URL:https://mgreinach.ch/event/mgr-hock-219/
LOCATION:Restaurant „Zum Brunne“\, Biel-Benken\, Hauptstrasse 56\, Biel-Benken\, 4105\, Schweiz
END:VEVENT
BEGIN:VEVENT
DTSTART;TZID=Europe/Berlin:20251104T190000
DTEND;TZID=Europe/Berlin:20251104T190000
DTSTAMP:20260422T151305
CREATED:20241103T085534Z
LAST-MODIFIED:20241103T085534Z
UID:7411-1762282800-1762282800@mgreinach.ch
SUMMARY:MGR Hock
DESCRIPTION:
URL:https://mgreinach.ch/event/mgr-hock-243/
LOCATION:Restaurant „Zum Brunne“\, Biel-Benken\, Hauptstrasse 56\, Biel-Benken\, 4105\, Schweiz
END:VEVENT
BEGIN:VEVENT
DTSTART;TZID=Europe/Berlin:20251015T190000
DTEND;TZID=Europe/Berlin:20251015T190000
DTSTAMP:20260422T151305
CREATED:20241103T085349Z
LAST-MODIFIED:20241103T085349Z
UID:7386-1760554800-1760554800@mgreinach.ch
SUMMARY:MGR Hock
DESCRIPTION:
URL:https://mgreinach.ch/event/mgr-hock-218/
LOCATION:Restaurant „Zum Brunne“\, Biel-Benken\, Hauptstrasse 56\, Biel-Benken\, 4105\, Schweiz
END:VEVENT
BEGIN:VEVENT
DTSTART;TZID=Europe/Berlin:20251007T190000
DTEND;TZID=Europe/Berlin:20251007T190000
DTSTAMP:20260422T151305
CREATED:20241103T085533Z
LAST-MODIFIED:20241103T085533Z
UID:7410-1759863600-1759863600@mgreinach.ch
SUMMARY:MGR Hock
DESCRIPTION:
URL:https://mgreinach.ch/event/mgr-hock-242/
LOCATION:Restaurant „Zum Brunne“\, Biel-Benken\, Hauptstrasse 56\, Biel-Benken\, 4105\, Schweiz
END:VEVENT
BEGIN:VEVENT
DTSTART;TZID=Europe/Berlin:20250917T190000
DTEND;TZID=Europe/Berlin:20250917T190000
DTSTAMP:20260422T151305
CREATED:20241103T085348Z
LAST-MODIFIED:20241103T085348Z
UID:7385-1758135600-1758135600@mgreinach.ch
SUMMARY:MGR Hock
DESCRIPTION:
URL:https://mgreinach.ch/event/mgr-hock-217/
LOCATION:Restaurant „Zum Brunne“\, Biel-Benken\, Hauptstrasse 56\, Biel-Benken\, 4105\, Schweiz
END:VEVENT
BEGIN:VEVENT
DTSTART;TZID=Europe/Berlin:20250902T190000
DTEND;TZID=Europe/Berlin:20250902T190000
DTSTAMP:20260422T151305
CREATED:20241103T085533Z
LAST-MODIFIED:20241103T085533Z
UID:7409-1756839600-1756839600@mgreinach.ch
SUMMARY:MGR Hock
DESCRIPTION:
URL:https://mgreinach.ch/event/mgr-hock-241/
LOCATION:Restaurant „Zum Brunne“\, Biel-Benken\, Hauptstrasse 56\, Biel-Benken\, 4105\, Schweiz
END:VEVENT
BEGIN:VEVENT
DTSTART;TZID=Europe/Berlin:20250820T190000
DTEND;TZID=Europe/Berlin:20250820T190000
DTSTAMP:20260422T151305
CREATED:20241103T085348Z
LAST-MODIFIED:20241103T085348Z
UID:7384-1755716400-1755716400@mgreinach.ch
SUMMARY:MGR Hock
DESCRIPTION:
URL:https://mgreinach.ch/event/mgr-hock-216/
LOCATION:Restaurant „Zum Brunne“\, Biel-Benken\, Hauptstrasse 56\, Biel-Benken\, 4105\, Schweiz
END:VEVENT
BEGIN:VEVENT
DTSTART;TZID=Europe/Berlin:20250805T190000
DTEND;TZID=Europe/Berlin:20250805T190000
DTSTAMP:20260422T151305
CREATED:20241103T085533Z
LAST-MODIFIED:20241103T085533Z
UID:7408-1754420400-1754420400@mgreinach.ch
SUMMARY:MGR Hock
DESCRIPTION:
URL:https://mgreinach.ch/event/mgr-hock-240/
LOCATION:Restaurant „Zum Brunne“\, Biel-Benken\, Hauptstrasse 56\, Biel-Benken\, 4105\, Schweiz
END:VEVENT
BEGIN:VEVENT
DTSTART;TZID=Europe/Berlin:20250716T190000
DTEND;TZID=Europe/Berlin:20250716T190000
DTSTAMP:20260422T151305
CREATED:20241103T085348Z
LAST-MODIFIED:20241103T085348Z
UID:7383-1752692400-1752692400@mgreinach.ch
SUMMARY:MGR Hock
DESCRIPTION:
URL:https://mgreinach.ch/event/mgr-hock-215/
LOCATION:Restaurant „Zum Brunne“\, Biel-Benken\, Hauptstrasse 56\, Biel-Benken\, 4105\, Schweiz
END:VEVENT
BEGIN:VEVENT
DTSTART;TZID=Europe/Berlin:20250701T190000
DTEND;TZID=Europe/Berlin:20250701T190000
DTSTAMP:20260422T151305
CREATED:20241103T085532Z
LAST-MODIFIED:20241103T085532Z
UID:7407-1751396400-1751396400@mgreinach.ch
SUMMARY:MGR Hock
DESCRIPTION:
URL:https://mgreinach.ch/event/mgr-hock-239/
LOCATION:Restaurant „Zum Brunne“\, Biel-Benken\, Hauptstrasse 56\, Biel-Benken\, 4105\, Schweiz
END:VEVENT
BEGIN:VEVENT
DTSTART;TZID=Europe/Berlin:20250618T190000
DTEND;TZID=Europe/Berlin:20250618T190000
DTSTAMP:20260422T151305
CREATED:20241103T085348Z
LAST-MODIFIED:20241103T085348Z
UID:7382-1750273200-1750273200@mgreinach.ch
SUMMARY:MGR Hock
DESCRIPTION:
URL:https://mgreinach.ch/event/mgr-hock-214/
LOCATION:Restaurant „Zum Brunne“\, Biel-Benken\, Hauptstrasse 56\, Biel-Benken\, 4105\, Schweiz
END:VEVENT
BEGIN:VEVENT
DTSTART;TZID=Europe/Berlin:20250603T190000
DTEND;TZID=Europe/Berlin:20250603T190000
DTSTAMP:20260422T151305
CREATED:20241103T085519Z
LAST-MODIFIED:20241103T085519Z
UID:7406-1748977200-1748977200@mgreinach.ch
SUMMARY:MGR Hock
DESCRIPTION:
URL:https://mgreinach.ch/event/mgr-hock-238/
LOCATION:Restaurant „Zum Brunne“\, Biel-Benken\, Hauptstrasse 56\, Biel-Benken\, 4105\, Schweiz
END:VEVENT
BEGIN:VEVENT
DTSTART;TZID=Europe/Berlin:20250521T190000
DTEND;TZID=Europe/Berlin:20250521T190000
DTSTAMP:20260422T151305
CREATED:20241103T085347Z
LAST-MODIFIED:20241103T085347Z
UID:7381-1747854000-1747854000@mgreinach.ch
SUMMARY:MGR Hock
DESCRIPTION:
URL:https://mgreinach.ch/event/mgr-hock-213/
LOCATION:Restaurant „Zum Brunne“\, Biel-Benken\, Hauptstrasse 56\, Biel-Benken\, 4105\, Schweiz
END:VEVENT
BEGIN:VEVENT
DTSTART;TZID=Europe/Berlin:20250506T190000
DTEND;TZID=Europe/Berlin:20250506T190000
DTSTAMP:20260422T151305
CREATED:20241103T085518Z
LAST-MODIFIED:20241103T085518Z
UID:7405-1746558000-1746558000@mgreinach.ch
SUMMARY:MGR Hock
DESCRIPTION:
URL:https://mgreinach.ch/event/mgr-hock-237/
LOCATION:Restaurant „Zum Brunne“\, Biel-Benken\, Hauptstrasse 56\, Biel-Benken\, 4105\, Schweiz
END:VEVENT
BEGIN:VEVENT
DTSTART;TZID=Europe/Berlin:20250416T190000
DTEND;TZID=Europe/Berlin:20250416T190000
DTSTAMP:20260422T151305
CREATED:20241103T085347Z
LAST-MODIFIED:20241103T085347Z
UID:7380-1744830000-1744830000@mgreinach.ch
SUMMARY:MGR Hock
DESCRIPTION:
URL:https://mgreinach.ch/event/mgr-hock-212/
LOCATION:Restaurant „Zum Brunne“\, Biel-Benken\, Hauptstrasse 56\, Biel-Benken\, 4105\, Schweiz
END:VEVENT
BEGIN:VEVENT
DTSTART;TZID=Europe/Berlin:20250401T190000
DTEND;TZID=Europe/Berlin:20250401T190000
DTSTAMP:20260422T151305
CREATED:20241103T085518Z
LAST-MODIFIED:20241103T085518Z
UID:7404-1743534000-1743534000@mgreinach.ch
SUMMARY:MGR Hock
DESCRIPTION:
URL:https://mgreinach.ch/event/mgr-hock-236/
LOCATION:Restaurant „Zum Brunne“\, Biel-Benken\, Hauptstrasse 56\, Biel-Benken\, 4105\, Schweiz
END:VEVENT
BEGIN:VEVENT
DTSTART;TZID=Europe/Berlin:20250321T190000
DTEND;TZID=Europe/Berlin:20250321T210000
DTSTAMP:20260422T151305
CREATED:20240124T210916Z
LAST-MODIFIED:20240124T210916Z
UID:7234-1742583600-1742590800@mgreinach.ch
SUMMARY:GV
DESCRIPTION:
URL:https://mgreinach.ch/event/gv-6/
LOCATION:Gasthof Rössli\, Therwilerstrasse 6\, Biel-Benken\, BL\, 4105\, Schweiz
END:VEVENT
END:VCALENDAR