BEGIN:VCALENDAR
VERSION:2.0
PRODID:-//MG Reinach - ECPv6.15.20//NONSGML v1.0//EN
CALSCALE:GREGORIAN
METHOD:PUBLISH
X-ORIGINAL-URL:https://mgreinach.ch
X-WR-CALDESC:Veranstaltungen für MG Reinach
REFRESH-INTERVAL;VALUE=DURATION:PT1H
X-Robots-Tag:noindex
X-PUBLISHED-TTL:PT1H
BEGIN:VTIMEZONE
TZID:Europe/Berlin
BEGIN:DAYLIGHT
TZOFFSETFROM:+0100
TZOFFSETTO:+0200
TZNAME:CEST
DTSTART:20250330T010000
END:DAYLIGHT
BEGIN:STANDARD
TZOFFSETFROM:+0200
TZOFFSETTO:+0100
TZNAME:CET
DTSTART:20251026T010000
END:STANDARD
BEGIN:DAYLIGHT
TZOFFSETFROM:+0100
TZOFFSETTO:+0200
TZNAME:CEST
DTSTART:20260329T010000
END:DAYLIGHT
BEGIN:STANDARD
TZOFFSETFROM:+0200
TZOFFSETTO:+0100
TZNAME:CET
DTSTART:20261025T010000
END:STANDARD
BEGIN:DAYLIGHT
TZOFFSETFROM:+0100
TZOFFSETTO:+0200
TZNAME:CEST
DTSTART:20270328T010000
END:DAYLIGHT
BEGIN:STANDARD
TZOFFSETFROM:+0200
TZOFFSETTO:+0100
TZNAME:CET
DTSTART:20271031T010000
END:STANDARD
END:VTIMEZONE
BEGIN:VEVENT
DTSTART;TZID=Europe/Berlin:20260303T190000
DTEND;TZID=Europe/Berlin:20260303T190000
DTSTAMP:20260419T170423
CREATED:20241103T085548Z
LAST-MODIFIED:20241103T085548Z
UID:7415-1772564400-1772564400@mgreinach.ch
SUMMARY:MGR Hock
DESCRIPTION:
URL:https://mgreinach.ch/event/mgr-hock-247/
LOCATION:Restaurant „Zum Brunne“\, Biel-Benken\, Hauptstrasse 56\, Biel-Benken\, 4105\, Schweiz
END:VEVENT
BEGIN:VEVENT
DTSTART;TZID=Europe/Berlin:20260318T190000
DTEND;TZID=Europe/Berlin:20260318T190000
DTSTAMP:20260419T170423
CREATED:20241103T085404Z
LAST-MODIFIED:20241103T085404Z
UID:7391-1773860400-1773860400@mgreinach.ch
SUMMARY:MGR Hock
DESCRIPTION:
URL:https://mgreinach.ch/event/mgr-hock-223/
LOCATION:Restaurant „Zum Brunne“\, Biel-Benken\, Hauptstrasse 56\, Biel-Benken\, 4105\, Schweiz
END:VEVENT
BEGIN:VEVENT
DTSTART;TZID=Europe/Berlin:20260320T190000
DTEND;TZID=Europe/Berlin:20260320T220000
DTSTAMP:20260419T170423
CREATED:20251108T155408Z
LAST-MODIFIED:20251108T155408Z
UID:7603-1774033200-1774044000@mgreinach.ch
SUMMARY:GV MG Reinach
DESCRIPTION:
URL:https://mgreinach.ch/event/gv-mg-reinach-3/
END:VEVENT
END:VCALENDAR