BEGIN:VCALENDAR
VERSION:2.0
PRODID:-//MG Reinach - ECPv6.15.20//NONSGML v1.0//EN
CALSCALE:GREGORIAN
METHOD:PUBLISH
X-WR-CALNAME:MG Reinach
X-ORIGINAL-URL:https://mgreinach.ch
X-WR-CALDESC:Veranstaltungen für MG Reinach
REFRESH-INTERVAL;VALUE=DURATION:PT1H
X-Robots-Tag:noindex
X-PUBLISHED-TTL:PT1H
BEGIN:VTIMEZONE
TZID:Europe/Berlin
BEGIN:DAYLIGHT
TZOFFSETFROM:+0100
TZOFFSETTO:+0200
TZNAME:CEST
DTSTART:20250330T010000
END:DAYLIGHT
BEGIN:STANDARD
TZOFFSETFROM:+0200
TZOFFSETTO:+0100
TZNAME:CET
DTSTART:20251026T010000
END:STANDARD
BEGIN:DAYLIGHT
TZOFFSETFROM:+0100
TZOFFSETTO:+0200
TZNAME:CEST
DTSTART:20260329T010000
END:DAYLIGHT
BEGIN:STANDARD
TZOFFSETFROM:+0200
TZOFFSETTO:+0100
TZNAME:CET
DTSTART:20261025T010000
END:STANDARD
BEGIN:DAYLIGHT
TZOFFSETFROM:+0100
TZOFFSETTO:+0200
TZNAME:CEST
DTSTART:20270328T010000
END:DAYLIGHT
BEGIN:STANDARD
TZOFFSETFROM:+0200
TZOFFSETTO:+0100
TZNAME:CET
DTSTART:20271031T010000
END:STANDARD
END:VTIMEZONE
BEGIN:VEVENT
DTSTART;TZID=Europe/Berlin:20260804T190000
DTEND;TZID=Europe/Berlin:20260804T190000
DTSTAMP:20260419T220752
CREATED:20241103T085603Z
LAST-MODIFIED:20241103T085603Z
UID:7420-1785870000-1785870000@mgreinach.ch
SUMMARY:MGR Hock
DESCRIPTION:
URL:https://mgreinach.ch/event/mgr-hock-252/
LOCATION:Restaurant „Zum Brunne“\, Biel-Benken\, Hauptstrasse 56\, Biel-Benken\, 4105\, Schweiz
END:VEVENT
BEGIN:VEVENT
DTSTART;TZID=Europe/Berlin:20260814T133000
DTEND;TZID=Europe/Berlin:20260814T170000
DTSTAMP:20260419T220752
CREATED:20260331T202958Z
LAST-MODIFIED:20260331T202958Z
UID:7631-1786714200-1786726800@mgreinach.ch
SUMMARY:Ausflug SR Technics
DESCRIPTION:
URL:https://mgreinach.ch/event/ausflug-sr-technics/
END:VEVENT
BEGIN:VEVENT
DTSTART;TZID=Europe/Berlin:20260819T190000
DTEND;TZID=Europe/Berlin:20260819T190000
DTSTAMP:20260419T220752
CREATED:20241103T085419Z
LAST-MODIFIED:20241103T085419Z
UID:7396-1787166000-1787166000@mgreinach.ch
SUMMARY:MGR Hock
DESCRIPTION:
URL:https://mgreinach.ch/event/mgr-hock-228/
LOCATION:Restaurant „Zum Brunne“\, Biel-Benken\, Hauptstrasse 56\, Biel-Benken\, 4105\, Schweiz
END:VEVENT
BEGIN:VEVENT
DTSTART;VALUE=DATE:20260829
DTEND;VALUE=DATE:20260830
DTSTAMP:20260419T220752
CREATED:20260331T202921Z
LAST-MODIFIED:20260331T202921Z
UID:7629-1787961600-1788047999@mgreinach.ch
SUMMARY:Ziellandewettbewerb
DESCRIPTION:
URL:https://mgreinach.ch/event/ziellandewettbewerb/
LOCATION:Flugplatz MG Reinach
END:VEVENT
END:VCALENDAR