BEGIN:VCALENDAR
VERSION:2.0
PRODID:-//MG Reinach - ECPv6.15.20//NONSGML v1.0//EN
CALSCALE:GREGORIAN
METHOD:PUBLISH
X-WR-CALNAME:MG Reinach
X-ORIGINAL-URL:https://mgreinach.ch
X-WR-CALDESC:Veranstaltungen für MG Reinach
REFRESH-INTERVAL;VALUE=DURATION:PT1H
X-Robots-Tag:noindex
X-PUBLISHED-TTL:PT1H
BEGIN:VTIMEZONE
TZID:Europe/Berlin
BEGIN:DAYLIGHT
TZOFFSETFROM:+0100
TZOFFSETTO:+0200
TZNAME:CEST
DTSTART:20250330T010000
END:DAYLIGHT
BEGIN:STANDARD
TZOFFSETFROM:+0200
TZOFFSETTO:+0100
TZNAME:CET
DTSTART:20251026T010000
END:STANDARD
BEGIN:DAYLIGHT
TZOFFSETFROM:+0100
TZOFFSETTO:+0200
TZNAME:CEST
DTSTART:20260329T010000
END:DAYLIGHT
BEGIN:STANDARD
TZOFFSETFROM:+0200
TZOFFSETTO:+0100
TZNAME:CET
DTSTART:20261025T010000
END:STANDARD
BEGIN:DAYLIGHT
TZOFFSETFROM:+0100
TZOFFSETTO:+0200
TZNAME:CEST
DTSTART:20270328T010000
END:DAYLIGHT
BEGIN:STANDARD
TZOFFSETFROM:+0200
TZOFFSETTO:+0100
TZNAME:CET
DTSTART:20271031T010000
END:STANDARD
END:VTIMEZONE
BEGIN:VEVENT
DTSTART;TZID=Europe/Berlin:20261006T190000
DTEND;TZID=Europe/Berlin:20261006T190000
DTSTAMP:20260420T011900
CREATED:20241103T085633Z
LAST-MODIFIED:20241103T085633Z
UID:7422-1791313200-1791313200@mgreinach.ch
SUMMARY:MGR Hock
DESCRIPTION:
URL:https://mgreinach.ch/event/mgr-hock-254/
LOCATION:Restaurant „Zum Brunne“\, Biel-Benken\, Hauptstrasse 56\, Biel-Benken\, 4105\, Schweiz
END:VEVENT
BEGIN:VEVENT
DTSTART;TZID=Europe/Berlin:20261021T190000
DTEND;TZID=Europe/Berlin:20261021T190000
DTSTAMP:20260420T011900
CREATED:20241103T085434Z
LAST-MODIFIED:20241103T085434Z
UID:7398-1792609200-1792609200@mgreinach.ch
SUMMARY:MGR Hock
DESCRIPTION:
URL:https://mgreinach.ch/event/mgr-hock-230/
LOCATION:Restaurant „Zum Brunne“\, Biel-Benken\, Hauptstrasse 56\, Biel-Benken\, 4105\, Schweiz
END:VEVENT
END:VCALENDAR